BEGIN:VCALENDAR
VERSION:2.0
PRODID:-//Norbreck Bowling and Tennis Club - ECPv6.15.20//NONSGML v1.0//EN
CALSCALE:GREGORIAN
METHOD:PUBLISH
X-WR-CALNAME:Norbreck Bowling and Tennis Club
X-ORIGINAL-URL:https://norbreckclub.org
X-WR-CALDESC:Events for Norbreck Bowling and Tennis Club
REFRESH-INTERVAL;VALUE=DURATION:PT1H
X-Robots-Tag:noindex
X-PUBLISHED-TTL:PT1H
BEGIN:VTIMEZONE
TZID:UTC
BEGIN:STANDARD
TZOFFSETFROM:+0000
TZOFFSETTO:+0000
TZNAME:UTC
DTSTART:20230101T000000
END:STANDARD
END:VTIMEZONE
BEGIN:VEVENT
DTSTART;TZID=UTC:20240225T110000
DTEND;TZID=UTC:20240225T123000
DTSTAMP:20260419T190336
CREATED:20240219T151954Z
LAST-MODIFIED:20240219T151954Z
UID:4018-1708858800-1708864200@norbreckclub.org
SUMMARY:Ladies Pre-Season Bowls Meeting
DESCRIPTION:A reminder that the ‘pre-season’ Ladies Bowling meeting will be held at the club on Sunday 25th February at 11am. \nSimilar to previous years\, the Coffee Morning and the Picnic Cup will be the main items to be discussed. \nI look forward to seeing you all there. \nMany thanks\, \nAnn Court \nNorbreck Ladies Bowling Secretary
URL:https://norbreckclub.org/whats-on/ladies-pre-season-bowls-meeting
LOCATION:Norbreck Bowling & Tennis Club\, Clovelly Avenue\, Thornton Cleveleys\, FY5 1RZ\, United Kingdom
ATTACH;FMTTYPE=image/jpeg:https://norbreckclub.org/wp-content/uploads/2023/04/Bowls-News-Generic.jpg
END:VEVENT
END:VCALENDAR