BEGIN:VCALENDAR
VERSION:2.0
PRODID:-//Norbreck Bowling and Tennis Club - ECPv6.15.20//NONSGML v1.0//EN
CALSCALE:GREGORIAN
METHOD:PUBLISH
X-WR-CALNAME:Norbreck Bowling and Tennis Club
X-ORIGINAL-URL:https://norbreckclub.org
X-WR-CALDESC:Events for Norbreck Bowling and Tennis Club
REFRESH-INTERVAL;VALUE=DURATION:PT1H
X-Robots-Tag:noindex
X-PUBLISHED-TTL:PT1H
BEGIN:VTIMEZONE
TZID:UTC
BEGIN:STANDARD
TZOFFSETFROM:+0000
TZOFFSETTO:+0000
TZNAME:UTC
DTSTART:20230101T000000
END:STANDARD
END:VTIMEZONE
BEGIN:VEVENT
DTSTART;TZID=UTC:20240210T200000
DTEND;TZID=UTC:20240210T233000
DTSTAMP:20260422T100942
CREATED:20240120T233924Z
LAST-MODIFIED:20240120T233924Z
UID:3941-1707595200-1707607800@norbreckclub.org
SUMMARY:Club Party Night
DESCRIPTION:Come and join us for our club party night \nDJ Nick\, he’s been here before\, you’ll like him\, all great music from all eras \nBuffet \n 
URL:https://norbreckclub.org/whats-on/club-party-night
LOCATION:Norbreck Bowling & Tennis Club\, Clovelly Avenue\, Thornton Cleveleys\, FY5 1RZ\, United Kingdom
ATTACH;FMTTYPE=image/jpeg:https://norbreckclub.org/wp-content/uploads/2023/02/Events-News-Generic.jpg
END:VEVENT
END:VCALENDAR